BEGIN:VCALENDAR
VERSION:2.0
PRODID:-//wp-events-plugin.com//7.2.3.1//EN
TZID:Europe/Berlin
X-WR-TIMEZONE:Europe/Berlin
BEGIN:VEVENT
UID:348@mureck.gv.at
DTSTART;TZID=Europe/Berlin:20250818T150000
DTEND;TZID=Europe/Berlin:20250818T163000
DTSTAMP:20250624T101206Z
URL:https://www.mureck.gv.at/events/ferienspass-erste-hilfe-fuer-kinder-ro
 tes-kreuz/
SUMMARY:Ferien(s)pass - Erste Hilfe für Kinder - Rotes Kreuz
DESCRIPTION:
CATEGORIES:Event,Kinder,Kultur
END:VEVENT
BEGIN:VTIMEZONE
TZID:Europe/Berlin
X-LIC-LOCATION:Europe/Berlin
BEGIN:DAYLIGHT
DTSTART:20250330T030000
TZOFFSETFROM:+0100
TZOFFSETTO:+0200
TZNAME:CEST
END:DAYLIGHT
END:VTIMEZONE
END:VCALENDAR