BEGIN:VCALENDAR
VERSION:2.0
PRODID:-//wp-events-plugin.com//7.2.3.1//EN
TZID:Europe/Berlin
X-WR-TIMEZONE:Europe/Berlin
BEGIN:VEVENT
UID:346@mureck.gv.at
DTSTART;TZID=Europe/Berlin:20250728T090000
DTEND;TZID=Europe/Berlin:20250728T120000
DTSTAMP:20250624T100757Z
URL:https://www.mureck.gv.at/events/ferienspass-spiel-spass-kameradschaft/
SUMMARY:Ferien(s)pass - Spiel\, Spaß\, Kameradschaft
DESCRIPTION:
CATEGORIES:Event,Kinder
END:VEVENT
BEGIN:VTIMEZONE
TZID:Europe/Berlin
X-LIC-LOCATION:Europe/Berlin
BEGIN:DAYLIGHT
DTSTART:20250330T030000
TZOFFSETFROM:+0100
TZOFFSETTO:+0200
TZNAME:CEST
END:DAYLIGHT
END:VTIMEZONE
END:VCALENDAR