BEGIN:VCALENDAR
VERSION:2.0
PRODID:-//wp-events-plugin.com//7.2.3.1//EN
TZID:Europe/Berlin
X-WR-TIMEZONE:Europe/Berlin
BEGIN:VEVENT
UID:354@mureck.gv.at
DTSTART;TZID=Europe/Berlin:20250830T070000
DTEND;TZID=Europe/Berlin:20250831T200000
DTSTAMP:20250721T075400Z
URL:https://www.mureck.gv.at/events/fetzenmarkt-der-ff-eichfeld/
SUMMARY:Fetzenmarkt der FF-Eichfeld
DESCRIPTION:
CATEGORIES:Event,Kultur
END:VEVENT
BEGIN:VTIMEZONE
TZID:Europe/Berlin
X-LIC-LOCATION:Europe/Berlin
BEGIN:DAYLIGHT
DTSTART:20250330T030000
TZOFFSETFROM:+0100
TZOFFSETTO:+0200
TZNAME:CEST
END:DAYLIGHT
END:VTIMEZONE
END:VCALENDAR