BEGIN:VCALENDAR
VERSION:2.0
PRODID:-//wp-events-plugin.com//7.2.3.1//EN
TZID:Europe/Berlin
X-WR-TIMEZONE:Europe/Berlin
BEGIN:VEVENT
UID:468@mureck.gv.at
DTSTART;TZID=Europe/Berlin:20261206T160000
DTEND;TZID=Europe/Berlin:20261206T160000
DTSTAMP:20260401T071145Z
URL:https://www.mureck.gv.at/events/hl-nikolaus-mit-den-fuersten-der-finst
 ernis/
SUMMARY:Hl. Nikolaus mit seinen "Fürsten der Finsternis"
DESCRIPTION:
ATTACH;FMTTYPE=image/jpeg:https://www.mureck.gv.at/wp-content/uploads/2026
 /04/Perchten.jpg
CATEGORIES:Event,Kinder,Kultur
END:VEVENT
BEGIN:VTIMEZONE
TZID:Europe/Berlin
X-LIC-LOCATION:Europe/Berlin
BEGIN:STANDARD
DTSTART:20261025T020000
TZOFFSETFROM:+0200
TZOFFSETTO:+0100
TZNAME:CET
END:STANDARD
END:VTIMEZONE
END:VCALENDAR