BEGIN:VCALENDAR
VERSION:2.0
PRODID:-//wp-events-plugin.com//7.2.3.1//EN
TZID:Europe/Berlin
X-WR-TIMEZONE:Europe/Berlin
BEGIN:VEVENT
UID:385@mureck.gv.at
DTSTART;TZID=Europe/Berlin:20251005T160000
DTEND;TZID=Europe/Berlin:20251005T220000
DTSTAMP:20251007T133759Z
URL:https://www.mureck.gv.at/events/murecker-adventstandln-4/
SUMMARY:Murecker Adventstandl'n
DESCRIPTION:
CATEGORIES:Event,Kultur
END:VEVENT
BEGIN:VTIMEZONE
TZID:Europe/Berlin
X-LIC-LOCATION:Europe/Berlin
BEGIN:DAYLIGHT
DTSTART:20250330T030000
TZOFFSETFROM:+0100
TZOFFSETTO:+0200
TZNAME:CEST
END:DAYLIGHT
END:VTIMEZONE
END:VCALENDAR